BEGIN:VCALENDAR
X-LOTUS-CHARSET:UTF-8
VERSION:2.0
PRODID:ZMS-Berlin
METHOD:PUBLISH
BEGIN:VEVENT
UID:zukunft-aus-brandenburg-1875
CLASS:PUBLIC
DTSTAMP:20260421T202509
DTSTART;TZID=Europe/Berlin:2026-02-17T08:30:00
DTEND;TZID=Europe/Berlin:2026-02-17T08:30:00
LOCATION:
SUMMARY:Seminar zum Förderaufruf für Wasserstofftankstellen und H2-Fahrzeuge
DESCRIPTION:Online-Seminar der NOW GmbH zum Förderaufruf für Wasserstofftankstellen und H2-Fahrzeuge (Paketförderung)

END:VEVENT
END:VCALENDAR
