BEGIN:VCALENDAR
X-LOTUS-CHARSET:UTF-8
VERSION:2.0
PRODID:ZMS-Berlin
METHOD:PUBLISH
BEGIN:VEVENT
UID:zukunft-aus-brandenburg-1801
CLASS:PUBLIC
DTSTAMP:20260421T203155
DTSTART;TZID=Europe/Berlin:2026-02-03T13:00:00
DTEND;TZID=Europe/Berlin:2026-02-03T13:00:00
LOCATION:Theodor-Fontane-Straße 42, 14974, Ludwigsfelde, DE, Klubhaus Lounge Ludwigsfelde,
SUMMARY:Nachhaltigkeit in Industrie und Handwerk | Prämierung Azubi-Ideenwettbewerb
DESCRIPTION:Am 3. Februar 2026 um 14.00 Uhr lädt die Stadt Ludwigsfelde zur dritten Verleihung des AzubiLu-Awards ins Klubhaus ein. Die Veranstaltung stellt in diesem Jahr das Thema „Nachhaltigkeit in Industrie und Handwerk“ in den Mittelpunkt.

END:VEVENT
END:VCALENDAR
